BEGIN:VCALENDAR
VERSION:2.0
PRODID:-//Tukios.com/
BEGIN:VEVENT
UID:0f0a0b9d-dcfe-4abb-9a41-9abd0d6acbcc@www.hancevillefuneralhome.com
DTSTAMP:20260420T201122Z
DTSTART:20260421T190000Z
DTEND:20260421T200000Z
SUMMARY:Funeral Service
DESCRIPTION:
URL:https://www.hancevillefuneralhome.com/obituaries/mary-starnes
LOCATION: 100 Michelle Street, NW  Hanceville AL 35077
GEO:34.0652896;-86.7741575
END:VEVENT
END:VCALENDAR