BEGIN:VCALENDAR
VERSION:2.0
PRODID:-//Tukios.com/
BEGIN:VEVENT
UID:ae67f738-1b64-469c-acc8-056921e3e396@www.hancevillefuneralhome.com
DTSTAMP:20260420T201434Z
DTSTART:20260421T180000Z
DTEND:20260421T190000Z
SUMMARY:Visitation
DESCRIPTION:
URL:https://www.hancevillefuneralhome.com/obituaries/mary-starnes
LOCATION: 100 Michelle Street, NW  Hanceville AL 35077
GEO:34.0652896;-86.7741575
END:VEVENT
END:VCALENDAR