BEGIN:VCALENDAR
VERSION:2.0
PRODID:-//Tukios.com/
BEGIN:VEVENT
UID:0b13d860-cc7f-40ad-ad7f-63c153676052@www.hancevillefuneralhome.com
DTSTAMP:20260421T025937Z
DTSTART:20260421T230000Z
DTEND:20260422T010000Z
SUMMARY:Visitation
DESCRIPTION:
URL:https://www.hancevillefuneralhome.com/obituaries/margie-dell-cason
LOCATION:Hanceville Funeral Home 100 Michelle Street, NW  Hanceville AL 
	35077
GEO:34.0652896;-86.7741575
END:VEVENT
END:VCALENDAR